BEGIN:VCALENDAR
VERSION:2.0
PRODID:-//gregorypoole - ECPv6.15.17//NONSGML v1.0//EN
CALSCALE:GREGORIAN
METHOD:PUBLISH
X-ORIGINAL-URL:https://www.gregorypoole.com
X-WR-CALDESC:Events for gregorypoole
REFRESH-INTERVAL;VALUE=DURATION:PT1H
X-Robots-Tag:noindex
X-PUBLISHED-TTL:PT1H
BEGIN:VTIMEZONE
TZID:UTC
BEGIN:STANDARD
TZOFFSETFROM:+0000
TZOFFSETTO:+0000
TZNAME:UTC
DTSTART:20220101T000000
END:STANDARD
END:VTIMEZONE
BEGIN:VEVENT
DTSTART;TZID=UTC:20230517T080000
DTEND;TZID=UTC:20230521T170000
DTSTAMP:20260422T025121
CREATED:20230515T124634Z
LAST-MODIFIED:20230515T124634Z
UID:59726-1684310400-1684688400@www.gregorypoole.com
SUMMARY:Custom Shoot Out Fishing Tournament
DESCRIPTION:Abaco\, Bahamas
URL:https://www.gregorypoole.com/event/custom-shoot-out-fishing-tournament/
END:VEVENT
BEGIN:VEVENT
DTSTART;TZID=UTC:20230518T080000
DTEND;TZID=UTC:20230521T170000
DTSTAMP:20260422T025121
CREATED:20230515T124734Z
LAST-MODIFIED:20230515T124734Z
UID:59728-1684396800-1684688400@www.gregorypoole.com
SUMMARY:Chris Perri Memorial Fishing Tournament
DESCRIPTION:Abaco\, Bahamas 
URL:https://www.gregorypoole.com/event/chris-perri-memorial-fishing-tournament/
END:VEVENT
BEGIN:VEVENT
DTSTART;TZID=UTC:20230525T080000
DTEND;TZID=UTC:20230528T170000
DTSTAMP:20260422T025121
CREATED:20230515T124817Z
LAST-MODIFIED:20230515T124817Z
UID:59730-1685001600-1685293200@www.gregorypoole.com
SUMMARY:Swansboro Rotary Fishing Tournament
DESCRIPTION:Morehead City\, NC 
URL:https://www.gregorypoole.com/event/swansboro-rotary-fishing-tournament/
END:VEVENT
BEGIN:VEVENT
DTSTART;TZID=UTC:20230531T080000
DTEND;TZID=UTC:20230603T170000
DTSTAMP:20260422T025121
CREATED:20230515T124905Z
LAST-MODIFIED:20230515T124905Z
UID:59732-1685520000-1685811600@www.gregorypoole.com
SUMMARY:Cape Fear Blue Marlin Fishing Tournament
DESCRIPTION:Wrightsville Beach\, NC 
URL:https://www.gregorypoole.com/event/cape-fear-blue-marlin-fishing-tournament/
END:VEVENT
END:VCALENDAR