BEGIN:VCALENDAR
VERSION:2.0
PRODID:-//gregorypoole - ECPv6.15.17//NONSGML v1.0//EN
CALSCALE:GREGORIAN
METHOD:PUBLISH
X-ORIGINAL-URL:https://www.gregorypoole.com
X-WR-CALDESC:Events for gregorypoole
REFRESH-INTERVAL;VALUE=DURATION:PT1H
X-Robots-Tag:noindex
X-PUBLISHED-TTL:PT1H
BEGIN:VTIMEZONE
TZID:UTC
BEGIN:STANDARD
TZOFFSETFROM:+0000
TZOFFSETTO:+0000
TZNAME:UTC
DTSTART:20210101T000000
END:STANDARD
END:VTIMEZONE
BEGIN:VTIMEZONE
TZID:Asia/Karachi
BEGIN:STANDARD
TZOFFSETFROM:+0500
TZOFFSETTO:+0500
TZNAME:PKT
DTSTART:20210101T000000
END:STANDARD
END:VTIMEZONE
BEGIN:VEVENT
DTSTART;TZID=UTC:20221009T090000
DTEND;TZID=UTC:20221009T140000
DTSTAMP:20260424T165653
CREATED:20221017T180704Z
LAST-MODIFIED:20221017T180726Z
UID:56858-1665306000-1665324000@www.gregorypoole.com
SUMMARY:Walk for Hope
DESCRIPTION:
URL:https://www.gregorypoole.com/event/walk-for-hope/
LOCATION:Angus Barn\, 9401 Glenwood Ave\, Raleigh\, NC\, 27617\, United States
END:VEVENT
BEGIN:VEVENT
DTSTART;VALUE=DATE:20221013
DTEND;VALUE=DATE:20221014
DTSTAMP:20260424T165653
CREATED:20221017T180832Z
LAST-MODIFIED:20221017T180832Z
UID:56866-1665619200-1665705599@www.gregorypoole.com
SUMMARY:JoCo Works
DESCRIPTION:
URL:https://www.gregorypoole.com/event/joco-works/
LOCATION:Johnston Community College\, 245 College Rd\, Smithfield\, NC\, 27577\, United States
END:VEVENT
BEGIN:VEVENT
DTSTART;VALUE=DATE:20221020
DTEND;VALUE=DATE:20221021
DTSTAMP:20260424T165653
CREATED:20221017T180907Z
LAST-MODIFIED:20221017T180907Z
UID:56868-1666224000-1666310399@www.gregorypoole.com
SUMMARY:EWWN Backhoe Rodeo
DESCRIPTION:
URL:https://www.gregorypoole.com/event/ewwn-backhoe-rodeo/
LOCATION:Bell Arthur Water Corp\, 2474 Bell Arthur Road\, Greenville\, NC\, 27834\, United States
END:VEVENT
END:VCALENDAR